BEGIN:VCALENDAR
VERSION:2.0
PRODID:-//Grace Chinese Gospel Church of North York - ECPv6.15.20//NONSGML v1.0//EN
CALSCALE:GREGORIAN
METHOD:PUBLISH
X-WR-CALNAME:Grace Chinese Gospel Church of North York
X-ORIGINAL-URL:https://gcgcny.org
X-WR-CALDESC:Events for Grace Chinese Gospel Church of North York
REFRESH-INTERVAL;VALUE=DURATION:PT1H
X-Robots-Tag:noindex
X-PUBLISHED-TTL:PT1H
BEGIN:VTIMEZONE
TZID:America/Toronto
BEGIN:DAYLIGHT
TZOFFSETFROM:-0500
TZOFFSETTO:-0400
TZNAME:EDT
DTSTART:20230312T070000
END:DAYLIGHT
BEGIN:STANDARD
TZOFFSETFROM:-0400
TZOFFSETTO:-0500
TZNAME:EST
DTSTART:20231105T060000
END:STANDARD
BEGIN:DAYLIGHT
TZOFFSETFROM:-0500
TZOFFSETTO:-0400
TZNAME:EDT
DTSTART:20240310T070000
END:DAYLIGHT
BEGIN:STANDARD
TZOFFSETFROM:-0400
TZOFFSETTO:-0500
TZNAME:EST
DTSTART:20241103T060000
END:STANDARD
BEGIN:DAYLIGHT
TZOFFSETFROM:-0500
TZOFFSETTO:-0400
TZNAME:EDT
DTSTART:20250309T070000
END:DAYLIGHT
BEGIN:STANDARD
TZOFFSETFROM:-0400
TZOFFSETTO:-0500
TZNAME:EST
DTSTART:20251102T060000
END:STANDARD
BEGIN:DAYLIGHT
TZOFFSETFROM:-0500
TZOFFSETTO:-0400
TZNAME:EDT
DTSTART:20260308T070000
END:DAYLIGHT
BEGIN:STANDARD
TZOFFSETFROM:-0400
TZOFFSETTO:-0500
TZNAME:EST
DTSTART:20261101T060000
END:STANDARD
END:VTIMEZONE
BEGIN:VEVENT
DTSTART;TZID=America/Toronto:20251116T131500
DTEND;TZID=America/Toronto:20251116T154500
DTSTAMP:20260420T124115
CREATED:20251025T235052Z
LAST-MODIFIED:20251025T235120Z
UID:3384-1763298900-1763307900@gcgcny.org
SUMMARY:Rev. Danny Cheung's Retirement Celebration
DESCRIPTION:Ticket prices: $25 per person; $10 for children aged 6 or under (maximum of two discounted children per table); free for children aged 1 or under who do not occupy a seat. Unless a full table of ten regular tickets is purchased together\, seating will be assigned by church. Tickets will be available for purchase after Sunday School at the small gym\, and sales will close on November 9 (or earlier if sold out).
URL:https://gcgcny.org/event/rev-danny-cheungs-retirement-celebration/
LOCATION:Golden Palace Banquet Hall\, 3225 Hwy 7 #1\, Markham\, Ontario\, L3R 3P3\, Canada
END:VEVENT
BEGIN:VEVENT
DTSTART;TZID=America/Toronto:20251031T180000
DTEND;TZID=America/Toronto:20251031T220000
DTSTAMP:20260420T124115
CREATED:20250926T170129Z
LAST-MODIFIED:20250926T170131Z
UID:3294-1761933600-1761948000@gcgcny.org
SUMMARY:Harvest Carnival
DESCRIPTION:Contact Edwina \n\n\n\nServing Opportunity Sign-Up by October 10
URL:https://gcgcny.org/event/harvest-carnival-2/
LOCATION:Grace Chinese Gospel Church of North York\, 201 Tempo Ave\, North York\, Ontario\, M2H 2R9\, Canada
END:VEVENT
BEGIN:VEVENT
DTSTART;TZID=America/Toronto:20251018T093000
DTEND;TZID=America/Toronto:20251018T113000
DTSTAMP:20260420T124115
CREATED:20250926T170751Z
LAST-MODIFIED:20250926T170753Z
UID:3298-1760779800-1760787000@gcgcny.org
SUMMARY:World Vision - Global 6K Walk for Water
DESCRIPTION:Contact: Carmen Tse
URL:https://gcgcny.org/event/world-vision-global-6k-walk-for-water/
LOCATION:Toogood Pond\, 276 Main St Unionville\, Unionville\, Canada
END:VEVENT
BEGIN:VEVENT
DTSTART;TZID=America/Toronto:20251010T183000
DTEND;TZID=America/Toronto:20251010T210000
DTSTAMP:20260420T124115
CREATED:20250926T170540Z
LAST-MODIFIED:20250926T170853Z
UID:3296-1760121000-1760130000@gcgcny.org
SUMMARY:Thanksgiving Adult Zone Dinner
DESCRIPTION:Room: Small Gym \n\n\n\nAdult (12+)$10Child (4-11)$5Toddler (0-3)FREEGuestFREE\n\n\n\nRegister by October 5 \n\n\n\nUnicol and Genesis have their own programs
URL:https://gcgcny.org/event/thanksgiving-adult-zone-dinner/
LOCATION:Grace Chinese Gospel Church of North York\, 201 Tempo Ave\, North York\, Ontario\, M2H 2R9\, Canada
END:VEVENT
BEGIN:VEVENT
DTSTART;TZID=America/Toronto:20250915T200000
DTEND;TZID=America/Toronto:20250915T213000
DTSTAMP:20260420T124115
CREATED:20250914T021246Z
LAST-MODIFIED:20250914T021248Z
UID:3244-1757966400-1757971800@gcgcny.org
SUMMARY:Impactus: Men's Ministry Leadership Summit
DESCRIPTION:
URL:https://gcgcny.org/event/impactus-mens-ministry-leadership-summit/
LOCATION:Ontario
END:VEVENT
BEGIN:VEVENT
DTSTART;TZID=America/Toronto:20250705T140000
DTEND;TZID=America/Toronto:20250705T170000
DTSTAMP:20260420T124115
CREATED:20250629T032555Z
LAST-MODIFIED:20250629T033019Z
UID:3103-1751724000-1751734800@gcgcny.org
SUMMARY:Adult Zone Event: Picnic Style Activities
DESCRIPTION:BTO picnic blank\, tarp\, chairs and/or free time activities\n\n\n\nexpect organized water games\, a scavenger hunt & softball minigames\n\n\n\nfruits & veggie snacks provided\n\n\n\npark at Milliken Mills Public School or Amberson High School
URL:https://gcgcny.org/event/adult-zone-event-picnic-style-activities/
LOCATION:Risebrough Park\, 97 Risebrough Circuit\, Markham\, L3R 3C7\, Canada
END:VEVENT
BEGIN:VEVENT
DTSTART;TZID=America/Toronto:20250628T100000
DTEND;TZID=America/Toronto:20250628T150000
DTSTAMP:20260420T124115
CREATED:20250525T053156Z
LAST-MODIFIED:20250525T053158Z
UID:3003-1751104800-1751122800@gcgcny.org
SUMMARY:35th Anniversary Carnival 2025
DESCRIPTION:
URL:https://gcgcny.org/event/35th-anniversary-carnival-2025/
LOCATION:Grace Chinese Gospel Church of North York\, 201 Tempo Ave\, North York\, Ontario\, M2H 2R9\, Canada
END:VEVENT
BEGIN:VEVENT
DTSTART;TZID=America/Toronto:20250525T093000
DTEND;TZID=America/Toronto:20250525T113000
DTSTAMP:20260420T124115
CREATED:20250112T151359Z
LAST-MODIFIED:20250112T151400Z
UID:2682-1748165400-1748172600@gcgcny.org
SUMMARY:35th Anniversary Sunday Service
DESCRIPTION:35th Anniversary Joint Sunday Service
URL:https://gcgcny.org/event/35th-anniversary-sunday-service/
LOCATION:Grace Chinese Gospel Church of North York\, 201 Tempo Ave\, North York\, Ontario\, M2H 2R9\, Canada
END:VEVENT
BEGIN:VEVENT
DTSTART;TZID=America/Toronto:20250503T130000
DTEND;TZID=America/Toronto:20250503T150000
DTSTAMP:20260420T124115
CREATED:20250420T133238Z
LAST-MODIFIED:20250420T133253Z
UID:2923-1746277200-1746284400@gcgcny.org
SUMMARY:Faith-Building Parenting from Early Years
DESCRIPTION:Register by April 28Room: W28
URL:https://gcgcny.org/event/faith-building-parenting-from-early-years/
LOCATION:Grace Chinese Gospel Church of North York\, 201 Tempo Ave\, North York\, Ontario\, M2H 2R9\, Canada
END:VEVENT
BEGIN:VEVENT
DTSTART;TZID=America/Toronto:20250427T111500
DTEND;TZID=America/Toronto:20250427T123000
DTSTAMP:20260420T124115
CREATED:20250202T014542Z
LAST-MODIFIED:20250202T014544Z
UID:2763-1745752500-1745757000@gcgcny.org
SUMMARY:Baptism Sunday
DESCRIPTION:
URL:https://gcgcny.org/event/baptism-sunday/
LOCATION:Grace Chinese Gospel Church of North York\, 201 Tempo Ave\, North York\, Ontario\, M2H 2R9\, Canada
END:VEVENT
BEGIN:VEVENT
DTSTART;TZID=America/Toronto:20250418T150000
DTEND;TZID=America/Toronto:20250418T170000
DTSTAMP:20260420T124115
CREATED:20250323T005100Z
LAST-MODIFIED:20250323T005101Z
UID:2850-1744988400-1744995600@gcgcny.org
SUMMARY:E.G.G.S.
DESCRIPTION:Easter – The Greatest Gift of Salvation \n\n\n\nSanctuary A
URL:https://gcgcny.org/event/e-g-g-s/
LOCATION:Grace Chinese Gospel Church of North York\, 201 Tempo Ave\, North York\, Ontario\, M2H 2R9\, Canada
END:VEVENT
BEGIN:VEVENT
DTSTART;TZID=America/Toronto:20250406T170000
DTEND;TZID=America/Toronto:20250406T190000
DTSTAMP:20260420T124115
CREATED:20250323T005203Z
LAST-MODIFIED:20250323T005205Z
UID:2852-1743958800-1743966000@gcgcny.org
SUMMARY:SOUL Clan - Reading Psalm Together
DESCRIPTION:
URL:https://gcgcny.org/event/soul-clan-reading-psalm-together/
LOCATION:Ontario
END:VEVENT
BEGIN:VEVENT
DTSTART;TZID=America/Toronto:20250312T123000
DTEND;TZID=America/Toronto:20250312T133000
DTSTAMP:20260420T124115
CREATED:20250216T011841Z
LAST-MODIFIED:20250216T011843Z
UID:2784-1741782600-1741786200@gcgcny.org
SUMMARY:Membership Meeting
DESCRIPTION:Sanctuary A \n\n\n\nAgenda: – Deacon Election: Simeon Wong– Deacon Renewal: Edwina Luu\, Howard Chin\, Hoytson Wong\, Jessica Leung\, Sylvia Szeto-Li\, Xiao Wang
URL:https://gcgcny.org/event/membership-meeting-2/
LOCATION:Grace Chinese Gospel Church of North York\, 201 Tempo Ave\, North York\, Ontario\, M2H 2R9\, Canada
END:VEVENT
BEGIN:VEVENT
DTSTART;TZID=America/Toronto:20250221T190000
DTEND;TZID=America/Toronto:20250221T220000
DTSTAMP:20260420T124115
CREATED:20250202T014935Z
LAST-MODIFIED:20250202T014937Z
UID:2765-1740164400-1740175200@gcgcny.org
SUMMARY:Night at the Museum: Amulet of Atlantis
DESCRIPTION:“A Mystery Dinner Party” \n\n\n\nStudent Zone Outreach EventSign-Up by February 14th\, Guests welcome at the door \n\n\n\nSanctuary B
URL:https://gcgcny.org/event/night-at-the-museum-amulet-of-atlantis/
LOCATION:Grace Chinese Gospel Church of North York\, 201 Tempo Ave\, North York\, Ontario\, M2H 2R9\, Canada
END:VEVENT
BEGIN:VEVENT
DTSTART;TZID=America/Toronto:20241220T180000
DTEND;TZID=America/Toronto:20241220T213000
DTSTAMP:20260420T124115
CREATED:20241110T143020Z
LAST-MODIFIED:20241110T143021Z
UID:2563-1734717600-1734730200@gcgcny.org
SUMMARY:Annual Christmas Event
DESCRIPTION:
URL:https://gcgcny.org/event/annual-christmas-event/
LOCATION:Grace Chinese Gospel Church of North York\, 201 Tempo Ave\, North York\, Ontario\, M2H 2R9\, Canada
END:VEVENT
BEGIN:VEVENT
DTSTART;TZID=America/Toronto:20241214T150000
DTEND;TZID=America/Toronto:20241214T170000
DTSTAMP:20260420T124115
CREATED:20241208T021310Z
LAST-MODIFIED:20241208T021312Z
UID:2613-1734188400-1734195600@gcgcny.org
SUMMARY:Prayer Room
DESCRIPTION:Sanctuary A
URL:https://gcgcny.org/event/prayer-room-2/
LOCATION:Grace Chinese Gospel Church of North York\, 201 Tempo Ave\, North York\, Ontario\, M2H 2R9\, Canada
END:VEVENT
BEGIN:VEVENT
DTSTART;TZID=America/Toronto:20241208T111500
DTEND;TZID=America/Toronto:20241208T123000
DTSTAMP:20260420T124115
CREATED:20240919T173635Z
LAST-MODIFIED:20241204T021526Z
UID:2437-1733656500-1733661000@gcgcny.org
SUMMARY:Baptism & Membership
DESCRIPTION:
URL:https://gcgcny.org/event/baptism-membership/
LOCATION:Grace Chinese Gospel Church of North York\, 201 Tempo Ave\, North York\, Ontario\, M2H 2R9\, Canada
END:VEVENT
BEGIN:VEVENT
DTSTART;TZID=America/Toronto:20241110T193000
DTEND;TZID=America/Toronto:20241110T213000
DTSTAMP:20260420T124115
CREATED:20241110T142735Z
LAST-MODIFIED:20241110T142736Z
UID:2561-1731267000-1731274200@gcgcny.org
SUMMARY:Christmas Shoeboxes - Packing Together
DESCRIPTION:Room: Small Gym
URL:https://gcgcny.org/event/christmas-shoeboxes-packing-together/
LOCATION:Grace Chinese Gospel Church of North York\, 201 Tempo Ave\, North York\, Ontario\, M2H 2R9\, Canada
END:VEVENT
BEGIN:VEVENT
DTSTART;TZID=America/Toronto:20241110T123000
DTEND;TZID=America/Toronto:20241110T133000
DTSTAMP:20260420T124115
CREATED:20241110T143227Z
LAST-MODIFIED:20241110T143229Z
UID:2565-1731241800-1731245400@gcgcny.org
SUMMARY:Membership Meeting
DESCRIPTION:Budget 2025 \n\n\n\nConfirmation of Pastors
URL:https://gcgcny.org/event/membership-meeting/
LOCATION:Grace Chinese Gospel Church of North York\, 201 Tempo Ave\, North York\, Ontario\, M2H 2R9\, Canada
END:VEVENT
BEGIN:VEVENT
DTSTART;TZID=America/Toronto:20241102T080000
DTEND;TZID=America/Toronto:20241102T163000
DTSTAMP:20260420T124115
CREATED:20240919T173511Z
LAST-MODIFIED:20240919T173512Z
UID:2433-1730534400-1730565000@gcgcny.org
SUMMARY:Impactus Men's Conference
DESCRIPTION:Contact: Kevin Ho for group rate
URL:https://gcgcny.org/event/impactus-mens-conference/
LOCATION:Bramalea Baptist Church\, 9050 Dixie Rd\, Brampton\, Ontario\, L6S 1J3\, Canada
END:VEVENT
BEGIN:VEVENT
DTSTART;TZID=America/Toronto:20241031T180000
DTEND;TZID=America/Toronto:20241031T200000
DTSTAMP:20260420T124115
CREATED:20241020T024648Z
LAST-MODIFIED:20241020T024648Z
UID:2456-1730397600-1730404800@gcgcny.org
SUMMARY:Harvest Carnival
DESCRIPTION:
URL:https://gcgcny.org/event/harvest-carnival/
LOCATION:Grace Chinese Gospel Church of North York\, 201 Tempo Ave\, North York\, Ontario\, M2H 2R9\, Canada
END:VEVENT
BEGIN:VEVENT
DTSTART;TZID=America/Toronto:20241027T104500
DTEND;TZID=America/Toronto:20241027T110000
DTSTAMP:20260420T124115
CREATED:20241025T172654Z
LAST-MODIFIED:20241025T172656Z
UID:2513-1730025900-1730026800@gcgcny.org
SUMMARY:Fire Drill
DESCRIPTION:
URL:https://gcgcny.org/event/fire-drill/
LOCATION:Grace Chinese Gospel Church of North York\, 201 Tempo Ave\, North York\, Ontario\, M2H 2R9\, Canada
END:VEVENT
BEGIN:VEVENT
DTSTART;TZID=America/Toronto:20240921T090000
DTEND;TZID=America/Toronto:20240921T130000
DTSTAMP:20260420T124115
CREATED:20240919T173134Z
LAST-MODIFIED:20240919T173135Z
UID:2431-1726909200-1726923600@gcgcny.org
SUMMARY:World Vision Global 6K for Water
DESCRIPTION:Donation to gcgcny.link/6kwalkContact: Carmen
URL:https://gcgcny.org/event/world-vision-global-6k-for-water/
LOCATION:Toogood Pond\, 276 Main St Unionville\, Unionville\, Canada
END:VEVENT
BEGIN:VEVENT
DTSTART;TZID=America/Toronto:20240919T180000
DTEND;TZID=America/Toronto:20240922T160000
DTSTAMP:20260420T124115
CREATED:20240919T173852Z
LAST-MODIFIED:20240919T173854Z
UID:2439-1726768800-1727020800@gcgcny.org
SUMMARY:Genesis: Retreat 2024
DESCRIPTION:
URL:https://gcgcny.org/event/genesis-retreat-2024/
LOCATION:Fair Havens Camp & Conference Centre\, 51 Baylawn Drive\, Toronto\, Toronto\, M1S 3M1\, Canada
END:VEVENT
BEGIN:VEVENT
DTSTART;TZID=America/Toronto:20240825T124500
DTEND;TZID=America/Toronto:20240825T150000
DTSTAMP:20260420T124115
CREATED:20240728T043842Z
LAST-MODIFIED:20240728T043844Z
UID:1902-1724589900-1724598000@gcgcny.org
SUMMARY:Plans for Future (Adult Zone)
DESCRIPTION:Free LunchRoom: Multipurpose Gym
URL:https://gcgcny.org/event/plans-for-future-adult-zone/
LOCATION:Grace Chinese Gospel Church of North York\, 201 Tempo Ave\, North York\, Ontario\, M2H 2R9\, Canada
END:VEVENT
BEGIN:VEVENT
DTSTART;TZID=America/Toronto:20240811T130000
DTEND;TZID=America/Toronto:20240811T163000
DTSTAMP:20260420T124115
CREATED:20240804T144532Z
LAST-MODIFIED:20240804T144543Z
UID:1981-1723381200-1723393800@gcgcny.org
SUMMARY:Care Fair
DESCRIPTION:Join us for lunch and making care packages.Questions\, Contact Jess
URL:https://gcgcny.org/event/care-fair/
LOCATION:Grace Chinese Gospel Church of North York\, 201 Tempo Ave\, North York\, Ontario\, M2H 2R9\, Canada
END:VEVENT
BEGIN:VEVENT
DTSTART;TZID=America/Toronto:20240806T203000
DTEND;TZID=America/Toronto:20240806T223000
DTSTAMP:20260420T124115
CREATED:20240801T222723Z
LAST-MODIFIED:20240802T134249Z
UID:1952-1722976200-1722983400@gcgcny.org
SUMMARY:Prayer Room
DESCRIPTION:Room: Sanctuary A“Come with me by yourselves to a quiet place and get some rest”Please talk to Jeffrey or Pastor Santos if you have any questions
URL:https://gcgcny.org/event/prayer-room/
LOCATION:Grace Chinese Gospel Church of North York\, 201 Tempo Ave\, North York\, Ontario\, M2H 2R9\, Canada
END:VEVENT
BEGIN:VEVENT
DTSTART;TZID=America/Toronto:20240713T100000
DTEND;TZID=America/Toronto:20240713T120000
DTSTAMP:20260420T124115
CREATED:20240630T031023Z
LAST-MODIFIED:20240630T031256Z
UID:1790-1720864800-1720872000@gcgcny.org
SUMMARY:KLS Family Summer Fun
DESCRIPTION:Fee: $12 per child\, $3 per adult \n\n\n\nLast Day for Registration: July 7th
URL:https://gcgcny.org/event/kls-family-summer-fun/
LOCATION:FUNLAND Indoor Playground\, 5051 Hwy 7 unit 1a\, Markham\, Ontario\, L3R 1N3\, Canada
END:VEVENT
BEGIN:VEVENT
DTSTART;TZID=America/Toronto:20240703T183000
DTEND;TZID=America/Toronto:20240703T203000
DTSTAMP:20260420T124115
CREATED:20240630T031204Z
LAST-MODIFIED:20240630T031317Z
UID:1796-1720031400-1720038600@gcgcny.org
SUMMARY:Shepherd Softball Training
DESCRIPTION:Topic: Sharing the Gospel with Your Friends \n\n\n\nSpeaker: Bowen \n\n\n\nRoom: W27
URL:https://gcgcny.org/event/shepherd-softball-training/
LOCATION:Grace Chinese Gospel Church of North York\, 201 Tempo Ave\, North York\, Ontario\, M2H 2R9\, Canada
END:VEVENT
BEGIN:VEVENT
DTSTART;TZID=America/Toronto:20240622T110000
DTEND;TZID=America/Toronto:20240622T140000
DTSTAMP:20260420T124115
CREATED:20240510T043040Z
LAST-MODIFIED:20240518T144253Z
UID:1659-1719054000-1719064800@gcgcny.org
SUMMARY:Church Picnic
DESCRIPTION:Lakeview SiteBring Your Own Lunch or Pizza for $5 – Contact Howard
URL:https://gcgcny.org/event/church-picnic/
LOCATION:Petticoat Creek Conservation Park\, 1100 Whites Rd S\, Pickering\, Ontario\, L1V 6K7\, Canada
END:VEVENT
END:VCALENDAR