BEGIN:VCALENDAR
VERSION:2.0
PRODID:-//Grace Chinese Gospel Church of North York - ECPv6.15.20//NONSGML v1.0//EN
CALSCALE:GREGORIAN
METHOD:PUBLISH
X-ORIGINAL-URL:https://gcgcny.org
X-WR-CALDESC:Events for Grace Chinese Gospel Church of North York
REFRESH-INTERVAL;VALUE=DURATION:PT1H
X-Robots-Tag:noindex
X-PUBLISHED-TTL:PT1H
BEGIN:VTIMEZONE
TZID:America/Toronto
BEGIN:DAYLIGHT
TZOFFSETFROM:-0500
TZOFFSETTO:-0400
TZNAME:EDT
DTSTART:20250309T070000
END:DAYLIGHT
BEGIN:STANDARD
TZOFFSETFROM:-0400
TZOFFSETTO:-0500
TZNAME:EST
DTSTART:20251102T060000
END:STANDARD
BEGIN:DAYLIGHT
TZOFFSETFROM:-0500
TZOFFSETTO:-0400
TZNAME:EDT
DTSTART:20260308T070000
END:DAYLIGHT
BEGIN:STANDARD
TZOFFSETFROM:-0400
TZOFFSETTO:-0500
TZNAME:EST
DTSTART:20261101T060000
END:STANDARD
BEGIN:DAYLIGHT
TZOFFSETFROM:-0500
TZOFFSETTO:-0400
TZNAME:EDT
DTSTART:20270314T070000
END:DAYLIGHT
BEGIN:STANDARD
TZOFFSETFROM:-0400
TZOFFSETTO:-0500
TZNAME:EST
DTSTART:20271107T060000
END:STANDARD
END:VTIMEZONE
BEGIN:VEVENT
DTSTART;TZID=America/Toronto:20260403T170000
DTEND;TZID=America/Toronto:20260403T213000
DTSTAMP:20260420T165251
CREATED:20260322T135055Z
LAST-MODIFIED:20260322T135110Z
UID:3660-1775235600-1775251800@gcgcny.org
SUMMARY:Good Friday Service with Fast
DESCRIPTION:Service at 5:00PM in Sanctuary ADinner at 6:45PM in Small Gym \n\n\n\nRoom: Sanctuary A
URL:https://gcgcny.org/event/good-friday-service-with-fast/
LOCATION:Grace Chinese Gospel Church of North York\, 201 Tempo Ave\, North York\, Ontario\, M2H 2R9\, Canada
END:VEVENT
BEGIN:VEVENT
DTSTART;TZID=America/Toronto:20260404T103000
DTEND;TZID=America/Toronto:20260404T120000
DTSTAMP:20260420T165251
CREATED:20260322T134712Z
LAST-MODIFIED:20260322T134714Z
UID:3658-1775298600-1775304000@gcgcny.org
SUMMARY:Women's Bible Study
DESCRIPTION:Contact: Jess Leung \n\n\n\nRoom: N46
URL:https://gcgcny.org/event/womens-bible-study/
LOCATION:Grace Chinese Gospel Church of North York\, 201 Tempo Ave\, North York\, Ontario\, M2H 2R9\, Canada
END:VEVENT
BEGIN:VEVENT
DTSTART;TZID=America/Toronto:20260628T111500
DTEND;TZID=America/Toronto:20260628T123000
DTSTAMP:20260420T165251
CREATED:20260322T135510Z
LAST-MODIFIED:20260322T135523Z
UID:3667-1782645300-1782649800@gcgcny.org
SUMMARY:Summer Baptism/Membership Service
DESCRIPTION:Baptism Class begins April 8 (7 Classes) \n\n\n\nContact: Pastors
URL:https://gcgcny.org/event/summer-baptism-membership-service/
LOCATION:Grace Chinese Gospel Church of North York\, 201 Tempo Ave\, North York\, Ontario\, M2H 2R9\, Canada
END:VEVENT
BEGIN:VEVENT
DTSTART;TZID=America/Toronto:20260717T080000
DTEND;TZID=America/Toronto:20260719T170000
DTSTAMP:20260420T165251
CREATED:20260322T135339Z
LAST-MODIFIED:20260322T135341Z
UID:3663-1784275200-1784480400@gcgcny.org
SUMMARY:Summer Conference
DESCRIPTION:Join Planning Committee \n\n\n\nContact: Pastors
URL:https://gcgcny.org/event/summer-conference/
LOCATION:Tyndale University\, 3377 Bayview Ave\, North York\, Ontario\, M2M 3S4\, Canada
END:VEVENT
END:VCALENDAR